BEGIN:VCALENDAR
VERSION:2.0
PRODID:-//ASOPEDIA - ECPv6.15.18//NONSGML v1.0//EN
CALSCALE:GREGORIAN
METHOD:PUBLISH
X-ORIGINAL-URL:https://asopedia.org
X-WR-CALDESC:Eventos para ASOPEDIA
REFRESH-INTERVAL;VALUE=DURATION:PT1H
X-Robots-Tag:noindex
X-PUBLISHED-TTL:PT1H
BEGIN:VTIMEZONE
TZID:America/Guatemala
BEGIN:STANDARD
TZOFFSETFROM:-0600
TZOFFSETTO:-0600
TZNAME:CST
DTSTART:20240101T000000
END:STANDARD
END:VTIMEZONE
BEGIN:VEVENT
DTSTART;TZID=America/Guatemala:20250403T190000
DTEND;TZID=America/Guatemala:20250403T203000
DTSTAMP:20260423T114832
CREATED:20250403T181501Z
LAST-MODIFIED:20250404T041325Z
UID:10000034-1743706800-1743712200@asopedia.org
SUMMARY:Sarampión y Tos ferina severa en niños.
DESCRIPTION:Enlace de conexión:\nhttps://us02web.zoom.us/j/81498688093?pwd=baRXr8htfaURLizjz4W7zacu38ycGV.1 \n 
URL:https://asopedia.org/evento/sarampion-y-tos-ferina-severa-en-ninos/
CATEGORIES:Seminarios y conferencias nacionales
ATTACH;FMTTYPE=image/jpeg:https://asopedia.org/wp-content/uploads/2025/04/sarampion-y-tos.jpg
ORGANIZER;CN="Asopedia":MAILTO:info@asopedia.org
END:VEVENT
BEGIN:VEVENT
DTSTART;TZID=America/Guatemala:20250424T183000
DTEND;TZID=America/Guatemala:20250424T203000
DTSTAMP:20260423T114832
CREATED:20250414T041159Z
LAST-MODIFIED:20250414T041412Z
UID:10000036-1745519400-1745526600@asopedia.org
SUMMARY:Impacto de los nutrientes en niños de 1 a 3 años
DESCRIPTION:
URL:https://asopedia.org/evento/impacto-de-los-nutrientes-en-ninos-de-1-a-3-anos/
CATEGORIES:Seminarios y conferencias nacionales
ATTACH;FMTTYPE=image/jpeg:https://asopedia.org/wp-content/uploads/2025/04/impacto-de-los-nutrientes.jpg
END:VEVENT
END:VCALENDAR