BEGIN:VCALENDAR
VERSION:2.0
PRODID:-//ASOPEDIA - ECPv6.15.18//NONSGML v1.0//EN
CALSCALE:GREGORIAN
METHOD:PUBLISH
X-WR-CALNAME:ASOPEDIA
X-ORIGINAL-URL:https://asopedia.org
X-WR-CALDESC:Eventos para ASOPEDIA
REFRESH-INTERVAL;VALUE=DURATION:PT1H
X-Robots-Tag:noindex
X-PUBLISHED-TTL:PT1H
BEGIN:VTIMEZONE
TZID:America/Guatemala
BEGIN:STANDARD
TZOFFSETFROM:-0600
TZOFFSETTO:-0600
TZNAME:CST
DTSTART:20240101T000000
END:STANDARD
END:VTIMEZONE
BEGIN:VEVENT
DTSTART;TZID=America/Guatemala:20251124T080000
DTEND;TZID=America/Guatemala:20251128T170000
DTSTAMP:20260420T170714
CREATED:20250318T181125Z
LAST-MODIFIED:20250505T151330Z
UID:10000017-1763971200-1764349200@asopedia.org
SUMMARY:Congreso Nacional de Medicina – Colmedegua
DESCRIPTION:
URL:https://asopedia.org/evento/congreso-nacional-de-medicina-colmedegua/
CATEGORIES:Congreso,Seminarios y conferencias nacionales
END:VEVENT
END:VCALENDAR